BEGIN:VCALENDAR
VERSION:2.0
PRODID:-//Contratero//ES
CALSCALE:GREGORIAN
METHOD:PUBLISH
BEGIN:VEVENT
UID:CON 41/2024 NE EX@contratero.es
DTSTAMP:20260424T005240Z
DTSTART:20241025T235959
DTEND:20241026T005959
SUMMARY:Cierre: Contratación de los servicios de mantenimiento de 
DESCRIPTION:Contratación de los servicios de mantenimiento de las licencias de software EDItran\\n\\nOrganismo: Junta de Gobierno del Ayuntamiento de Aranjuez\\n\\nVer en Contratero: https://contratero.es/contracts/CON 41/2024 NE EX
URL:https://contratero.es/contracts/CON 41/2024 NE EX
STATUS:CONFIRMED
BEGIN:VALARM
TRIGGER:-P1D
ACTION:DISPLAY
DESCRIPTION:Recordatorio: Contratación de los servicios 
END:VALARM
END:VEVENT
END:VCALENDAR